BEGIN:VCALENDAR
VERSION:2.0
PRODID:-//St. Paul&#039;s Lutheran Church | Falls Church Virginia - ECPv6.3.5//NONSGML v1.0//EN
CALSCALE:GREGORIAN
METHOD:PUBLISH
X-WR-CALNAME:St. Paul&#039;s Lutheran Church | Falls Church Virginia
X-ORIGINAL-URL:https://stpaulsfallschurch.org
X-WR-CALDESC:Events for St. Paul&#039;s Lutheran Church | Falls Church Virginia
REFRESH-INTERVAL;VALUE=DURATION:PT1H
X-Robots-Tag:noindex
X-PUBLISHED-TTL:PT1H
BEGIN:VTIMEZONE
TZID:America/New_York
BEGIN:DAYLIGHT
TZOFFSETFROM:-0500
TZOFFSETTO:-0400
TZNAME:EDT
DTSTART:20260308T070000
END:DAYLIGHT
BEGIN:STANDARD
TZOFFSETFROM:-0400
TZOFFSETTO:-0500
TZNAME:EST
DTSTART:20261101T060000
END:STANDARD
BEGIN:DAYLIGHT
TZOFFSETFROM:-0500
TZOFFSETTO:-0400
TZNAME:EDT
DTSTART:20270314T070000
END:DAYLIGHT
BEGIN:STANDARD
TZOFFSETFROM:-0400
TZOFFSETTO:-0500
TZNAME:EST
DTSTART:20271107T060000
END:STANDARD
BEGIN:DAYLIGHT
TZOFFSETFROM:-0500
TZOFFSETTO:-0400
TZNAME:EDT
DTSTART:20280312T070000
END:DAYLIGHT
BEGIN:STANDARD
TZOFFSETFROM:-0400
TZOFFSETTO:-0500
TZNAME:EST
DTSTART:20281105T060000
END:STANDARD
END:VTIMEZONE
BEGIN:VEVENT
DTSTART;TZID=America/New_York:20260511T190000
DTEND;TZID=America/New_York:20260511T210000
DTSTAMP:20260419T121150
CREATED:20190715T163349Z
LAST-MODIFIED:20190715T163349Z
UID:20181-1778526000-1778533200@stpaulsfallschurch.org
SUMMARY:Board of Evangelism
DESCRIPTION:
URL:https://stpaulsfallschurch.org/event/board-of-evangelism-2020-02-11/2026-05-11/
END:VEVENT
BEGIN:VEVENT
DTSTART;TZID=America/New_York:20260608T190000
DTEND;TZID=America/New_York:20260608T210000
DTSTAMP:20260419T121150
CREATED:20190715T163349Z
LAST-MODIFIED:20190715T163349Z
UID:20261-1780945200-1780952400@stpaulsfallschurch.org
SUMMARY:Board of Evangelism
DESCRIPTION:
URL:https://stpaulsfallschurch.org/event/board-of-evangelism-2020-02-11/2026-06-08/
END:VEVENT
BEGIN:VEVENT
DTSTART;TZID=America/New_York:20260713T190000
DTEND;TZID=America/New_York:20260713T210000
DTSTAMP:20260419T121150
CREATED:20190715T163349Z
LAST-MODIFIED:20190715T163349Z
UID:20367-1783969200-1783976400@stpaulsfallschurch.org
SUMMARY:Board of Evangelism
DESCRIPTION:
URL:https://stpaulsfallschurch.org/event/board-of-evangelism-2020-02-11/2026-07-13/
END:VEVENT
BEGIN:VEVENT
DTSTART;TZID=America/New_York:20260810T190000
DTEND;TZID=America/New_York:20260810T210000
DTSTAMP:20260419T121150
CREATED:20190715T163349Z
LAST-MODIFIED:20190715T163349Z
UID:20446-1786388400-1786395600@stpaulsfallschurch.org
SUMMARY:Board of Evangelism
DESCRIPTION:
URL:https://stpaulsfallschurch.org/event/board-of-evangelism-2020-02-11/2026-08-10/
END:VEVENT
BEGIN:VEVENT
DTSTART;TZID=America/New_York:20260914T190000
DTEND;TZID=America/New_York:20260914T210000
DTSTAMP:20260419T121150
CREATED:20190715T163349Z
LAST-MODIFIED:20190715T163349Z
UID:20550-1789412400-1789419600@stpaulsfallschurch.org
SUMMARY:Board of Evangelism
DESCRIPTION:
URL:https://stpaulsfallschurch.org/event/board-of-evangelism-2020-02-11/2026-09-14/
END:VEVENT
BEGIN:VEVENT
DTSTART;TZID=America/New_York:20261012T190000
DTEND;TZID=America/New_York:20261012T210000
DTSTAMP:20260419T121150
CREATED:20190715T163349Z
LAST-MODIFIED:20190715T163349Z
UID:20621-1791831600-1791838800@stpaulsfallschurch.org
SUMMARY:Board of Evangelism
DESCRIPTION:
URL:https://stpaulsfallschurch.org/event/board-of-evangelism-2020-02-11/2026-10-12/
END:VEVENT
BEGIN:VEVENT
DTSTART;TZID=America/New_York:20261109T190000
DTEND;TZID=America/New_York:20261109T210000
DTSTAMP:20260419T121150
CREATED:20190715T163349Z
LAST-MODIFIED:20190715T163349Z
UID:20705-1794250800-1794258000@stpaulsfallschurch.org
SUMMARY:Board of Evangelism
DESCRIPTION:
URL:https://stpaulsfallschurch.org/event/board-of-evangelism-2020-02-11/2026-11-09/
END:VEVENT
BEGIN:VEVENT
DTSTART;TZID=America/New_York:20261214T190000
DTEND;TZID=America/New_York:20261214T210000
DTSTAMP:20260419T121150
CREATED:20190715T163349Z
LAST-MODIFIED:20190715T163349Z
UID:20823-1797274800-1797282000@stpaulsfallschurch.org
SUMMARY:Board of Evangelism
DESCRIPTION:
URL:https://stpaulsfallschurch.org/event/board-of-evangelism-2020-02-11/2026-12-14/
END:VEVENT
BEGIN:VEVENT
DTSTART;TZID=America/New_York:20270111T190000
DTEND;TZID=America/New_York:20270111T210000
DTSTAMP:20260419T121150
CREATED:20190715T163349Z
LAST-MODIFIED:20190715T163349Z
UID:20920-1799694000-1799701200@stpaulsfallschurch.org
SUMMARY:Board of Evangelism
DESCRIPTION:
URL:https://stpaulsfallschurch.org/event/board-of-evangelism-2020-02-11/2027-01-11/
END:VEVENT
BEGIN:VEVENT
DTSTART;TZID=America/New_York:20270208T190000
DTEND;TZID=America/New_York:20270208T210000
DTSTAMP:20260419T121150
CREATED:20190715T163349Z
LAST-MODIFIED:20190715T163349Z
UID:21001-1802113200-1802120400@stpaulsfallschurch.org
SUMMARY:Board of Evangelism
DESCRIPTION:
URL:https://stpaulsfallschurch.org/event/board-of-evangelism-2020-02-11/2027-02-08/
END:VEVENT
BEGIN:VEVENT
DTSTART;TZID=America/New_York:20270308T190000
DTEND;TZID=America/New_York:20270308T210000
DTSTAMP:20260419T121150
CREATED:20190715T163349Z
LAST-MODIFIED:20190715T163349Z
UID:21090-1804532400-1804539600@stpaulsfallschurch.org
SUMMARY:Board of Evangelism
DESCRIPTION:
URL:https://stpaulsfallschurch.org/event/board-of-evangelism-2020-02-11/2027-03-08/
END:VEVENT
BEGIN:VEVENT
DTSTART;TZID=America/New_York:20270412T190000
DTEND;TZID=America/New_York:20270412T210000
DTSTAMP:20260419T121150
CREATED:20190715T163349Z
LAST-MODIFIED:20190715T163349Z
UID:21238-1807556400-1807563600@stpaulsfallschurch.org
SUMMARY:Board of Evangelism
DESCRIPTION:
URL:https://stpaulsfallschurch.org/event/board-of-evangelism-2020-02-11/2027-04-12/
END:VEVENT
BEGIN:VEVENT
DTSTART;TZID=America/New_York:20270510T190000
DTEND;TZID=America/New_York:20270510T210000
DTSTAMP:20260419T121150
CREATED:20190715T163349Z
LAST-MODIFIED:20190715T163349Z
UID:21332-1809975600-1809982800@stpaulsfallschurch.org
SUMMARY:Board of Evangelism
DESCRIPTION:
URL:https://stpaulsfallschurch.org/event/board-of-evangelism-2020-02-11/2027-05-10/
END:VEVENT
BEGIN:VEVENT
DTSTART;TZID=America/New_York:20270614T190000
DTEND;TZID=America/New_York:20270614T210000
DTSTAMP:20260419T121150
CREATED:20190715T163349Z
LAST-MODIFIED:20190715T163349Z
UID:21441-1812999600-1813006800@stpaulsfallschurch.org
SUMMARY:Board of Evangelism
DESCRIPTION:
URL:https://stpaulsfallschurch.org/event/board-of-evangelism-2020-02-11/2027-06-14/
END:VEVENT
BEGIN:VEVENT
DTSTART;TZID=America/New_York:20270712T190000
DTEND;TZID=America/New_York:20270712T210000
DTSTAMP:20260419T121150
CREATED:20190715T163349Z
LAST-MODIFIED:20190715T163349Z
UID:21520-1815418800-1815426000@stpaulsfallschurch.org
SUMMARY:Board of Evangelism
DESCRIPTION:
URL:https://stpaulsfallschurch.org/event/board-of-evangelism-2020-02-11/2027-07-12/
END:VEVENT
BEGIN:VEVENT
DTSTART;TZID=America/New_York:20270809T190000
DTEND;TZID=America/New_York:20270809T210000
DTSTAMP:20260419T121150
CREATED:20190715T163349Z
LAST-MODIFIED:20190715T163349Z
UID:21598-1817838000-1817845200@stpaulsfallschurch.org
SUMMARY:Board of Evangelism
DESCRIPTION:
URL:https://stpaulsfallschurch.org/event/board-of-evangelism-2020-02-11/2027-08-09/
END:VEVENT
BEGIN:VEVENT
DTSTART;TZID=America/New_York:20270913T190000
DTEND;TZID=America/New_York:20270913T210000
DTSTAMP:20260419T121150
CREATED:20190715T163349Z
LAST-MODIFIED:20190715T163349Z
UID:21687-1820862000-1820869200@stpaulsfallschurch.org
SUMMARY:Board of Evangelism
DESCRIPTION:
URL:https://stpaulsfallschurch.org/event/board-of-evangelism-2020-02-11/2027-09-13/
END:VEVENT
BEGIN:VEVENT
DTSTART;TZID=America/New_York:20271011T190000
DTEND;TZID=America/New_York:20271011T210000
DTSTAMP:20260419T121150
CREATED:20190715T163349Z
LAST-MODIFIED:20190715T163349Z
UID:21756-1823281200-1823288400@stpaulsfallschurch.org
SUMMARY:Board of Evangelism
DESCRIPTION:
URL:https://stpaulsfallschurch.org/event/board-of-evangelism-2020-02-11/2027-10-11/
END:VEVENT
BEGIN:VEVENT
DTSTART;TZID=America/New_York:20271108T190000
DTEND;TZID=America/New_York:20271108T210000
DTSTAMP:20260419T121150
CREATED:20190715T163349Z
LAST-MODIFIED:20190715T163349Z
UID:21845-1825700400-1825707600@stpaulsfallschurch.org
SUMMARY:Board of Evangelism
DESCRIPTION:
URL:https://stpaulsfallschurch.org/event/board-of-evangelism-2020-02-11/2027-11-08/
END:VEVENT
BEGIN:VEVENT
DTSTART;TZID=America/New_York:20271213T190000
DTEND;TZID=America/New_York:20271213T210000
DTSTAMP:20260419T121150
CREATED:20190715T163349Z
LAST-MODIFIED:20190715T163349Z
UID:21976-1828724400-1828731600@stpaulsfallschurch.org
SUMMARY:Board of Evangelism
DESCRIPTION:
URL:https://stpaulsfallschurch.org/event/board-of-evangelism-2020-02-11/2027-12-13/
END:VEVENT
BEGIN:VEVENT
DTSTART;TZID=America/New_York:20280110T190000
DTEND;TZID=America/New_York:20280110T210000
DTSTAMP:20260419T121150
CREATED:20190715T163349Z
LAST-MODIFIED:20190715T163349Z
UID:22082-1831143600-1831150800@stpaulsfallschurch.org
SUMMARY:Board of Evangelism
DESCRIPTION:
URL:https://stpaulsfallschurch.org/event/board-of-evangelism-2020-02-11/2028-01-10/
END:VEVENT
BEGIN:VEVENT
DTSTART;TZID=America/New_York:20280214T190000
DTEND;TZID=America/New_York:20280214T210000
DTSTAMP:20260419T121150
CREATED:20190715T163349Z
LAST-MODIFIED:20190715T163349Z
UID:22189-1834167600-1834174800@stpaulsfallschurch.org
SUMMARY:Board of Evangelism
DESCRIPTION:
URL:https://stpaulsfallschurch.org/event/board-of-evangelism-2020-02-11/2028-02-14/
END:VEVENT
BEGIN:VEVENT
DTSTART;TZID=America/New_York:20280313T190000
DTEND;TZID=America/New_York:20280313T210000
DTSTAMP:20260419T121150
CREATED:20190715T163349Z
LAST-MODIFIED:20190715T163349Z
UID:22329-1836586800-1836594000@stpaulsfallschurch.org
SUMMARY:Board of Evangelism
DESCRIPTION:
URL:https://stpaulsfallschurch.org/event/board-of-evangelism-2020-02-11/2028-03-13/
END:VEVENT
BEGIN:VEVENT
DTSTART;TZID=America/New_York:20280410T190000
DTEND;TZID=America/New_York:20280410T210000
DTSTAMP:20260419T121150
CREATED:20190715T163349Z
LAST-MODIFIED:20190715T163349Z
UID:22461-1839006000-1839013200@stpaulsfallschurch.org
SUMMARY:Board of Evangelism
DESCRIPTION:
URL:https://stpaulsfallschurch.org/event/board-of-evangelism-2020-02-11/2028-04-10/
END:VEVENT
END:VCALENDAR