BEGIN:VCALENDAR
VERSION:2.0
PRODID:-//St. Paul&#039;s Lutheran Church | Falls Church Virginia - ECPv6.3.5//NONSGML v1.0//EN
CALSCALE:GREGORIAN
METHOD:PUBLISH
X-WR-CALNAME:St. Paul&#039;s Lutheran Church | Falls Church Virginia
X-ORIGINAL-URL:https://stpaulsfallschurch.org
X-WR-CALDESC:Events for St. Paul&#039;s Lutheran Church | Falls Church Virginia
REFRESH-INTERVAL;VALUE=DURATION:PT1H
X-Robots-Tag:noindex
X-PUBLISHED-TTL:PT1H
BEGIN:VTIMEZONE
TZID:America/New_York
BEGIN:DAYLIGHT
TZOFFSETFROM:-0500
TZOFFSETTO:-0400
TZNAME:EDT
DTSTART:20190310T070000
END:DAYLIGHT
BEGIN:STANDARD
TZOFFSETFROM:-0400
TZOFFSETTO:-0500
TZNAME:EST
DTSTART:20191103T060000
END:STANDARD
BEGIN:DAYLIGHT
TZOFFSETFROM:-0500
TZOFFSETTO:-0400
TZNAME:EDT
DTSTART:20200308T070000
END:DAYLIGHT
BEGIN:STANDARD
TZOFFSETFROM:-0400
TZOFFSETTO:-0500
TZNAME:EST
DTSTART:20201101T060000
END:STANDARD
BEGIN:DAYLIGHT
TZOFFSETFROM:-0500
TZOFFSETTO:-0400
TZNAME:EDT
DTSTART:20210314T070000
END:DAYLIGHT
BEGIN:STANDARD
TZOFFSETFROM:-0400
TZOFFSETTO:-0500
TZNAME:EST
DTSTART:20211107T060000
END:STANDARD
BEGIN:DAYLIGHT
TZOFFSETFROM:-0500
TZOFFSETTO:-0400
TZNAME:EDT
DTSTART:20220313T070000
END:DAYLIGHT
BEGIN:STANDARD
TZOFFSETFROM:-0400
TZOFFSETTO:-0500
TZNAME:EST
DTSTART:20221106T060000
END:STANDARD
BEGIN:DAYLIGHT
TZOFFSETFROM:-0500
TZOFFSETTO:-0400
TZNAME:EDT
DTSTART:20230312T070000
END:DAYLIGHT
BEGIN:STANDARD
TZOFFSETFROM:-0400
TZOFFSETTO:-0500
TZNAME:EST
DTSTART:20231105T060000
END:STANDARD
BEGIN:DAYLIGHT
TZOFFSETFROM:-0500
TZOFFSETTO:-0400
TZNAME:EDT
DTSTART:20240310T070000
END:DAYLIGHT
BEGIN:STANDARD
TZOFFSETFROM:-0400
TZOFFSETTO:-0500
TZNAME:EST
DTSTART:20241103T060000
END:STANDARD
BEGIN:DAYLIGHT
TZOFFSETFROM:-0500
TZOFFSETTO:-0400
TZNAME:EDT
DTSTART:20250309T070000
END:DAYLIGHT
BEGIN:STANDARD
TZOFFSETFROM:-0400
TZOFFSETTO:-0500
TZNAME:EST
DTSTART:20251102T060000
END:STANDARD
BEGIN:DAYLIGHT
TZOFFSETFROM:-0500
TZOFFSETTO:-0400
TZNAME:EDT
DTSTART:20260308T070000
END:DAYLIGHT
BEGIN:STANDARD
TZOFFSETFROM:-0400
TZOFFSETTO:-0500
TZNAME:EST
DTSTART:20261101T060000
END:STANDARD
END:VTIMEZONE
BEGIN:VEVENT
DTSTART;TZID=America/New_York:20260414T190000
DTEND;TZID=America/New_York:20260414T210000
DTSTAMP:20260420T082909
CREATED:20190715T163349Z
LAST-MODIFIED:20190715T163349Z
UID:20099-1776193200-1776200400@stpaulsfallschurch.org
SUMMARY:Board of Evangelism
DESCRIPTION:
URL:https://stpaulsfallschurch.org/event/board-of-evangelism/2026-04-14/
END:VEVENT
BEGIN:VEVENT
DTSTART;TZID=America/New_York:20260310T190000
DTEND;TZID=America/New_York:20260310T210000
DTSTAMP:20260420T082909
CREATED:20190715T163349Z
LAST-MODIFIED:20190715T163349Z
UID:19361-1773169200-1773176400@stpaulsfallschurch.org
SUMMARY:Board of Evangelism
DESCRIPTION:
URL:https://stpaulsfallschurch.org/event/board-of-evangelism/2026-03-10/
END:VEVENT
BEGIN:VEVENT
DTSTART;TZID=America/New_York:20260210T190000
DTEND;TZID=America/New_York:20260210T210000
DTSTAMP:20260420T082909
CREATED:20190715T163349Z
LAST-MODIFIED:20190715T163349Z
UID:19246-1770750000-1770757200@stpaulsfallschurch.org
SUMMARY:Board of Evangelism
DESCRIPTION:
URL:https://stpaulsfallschurch.org/event/board-of-evangelism/2026-02-10/
END:VEVENT
BEGIN:VEVENT
DTSTART;TZID=America/New_York:20260113T190000
DTEND;TZID=America/New_York:20260113T210000
DTSTAMP:20260420T082909
CREATED:20190715T163349Z
LAST-MODIFIED:20190715T163349Z
UID:19181-1768330800-1768338000@stpaulsfallschurch.org
SUMMARY:Board of Evangelism
DESCRIPTION:
URL:https://stpaulsfallschurch.org/event/board-of-evangelism/2026-01-13/
END:VEVENT
BEGIN:VEVENT
DTSTART;TZID=America/New_York:20251209T190000
DTEND;TZID=America/New_York:20251209T210000
DTSTAMP:20260420T082909
CREATED:20190715T163349Z
LAST-MODIFIED:20190715T163349Z
UID:19051-1765306800-1765314000@stpaulsfallschurch.org
SUMMARY:Board of Evangelism
DESCRIPTION:
URL:https://stpaulsfallschurch.org/event/board-of-evangelism/2025-12-09/
END:VEVENT
BEGIN:VEVENT
DTSTART;TZID=America/New_York:20251111T190000
DTEND;TZID=America/New_York:20251111T210000
DTSTAMP:20260420T082909
CREATED:20190715T163349Z
LAST-MODIFIED:20190715T163349Z
UID:18947-1762887600-1762894800@stpaulsfallschurch.org
SUMMARY:Board of Evangelism
DESCRIPTION:
URL:https://stpaulsfallschurch.org/event/board-of-evangelism/2025-11-11/
END:VEVENT
BEGIN:VEVENT
DTSTART;TZID=America/New_York:20251014T190000
DTEND;TZID=America/New_York:20251014T210000
DTSTAMP:20260420T082909
CREATED:20190715T163349Z
LAST-MODIFIED:20190715T163349Z
UID:18860-1760468400-1760475600@stpaulsfallschurch.org
SUMMARY:Board of Evangelism
DESCRIPTION:
URL:https://stpaulsfallschurch.org/event/board-of-evangelism/2025-10-14/
END:VEVENT
BEGIN:VEVENT
DTSTART;TZID=America/New_York:20250909T190000
DTEND;TZID=America/New_York:20250909T210000
DTSTAMP:20260420T082909
CREATED:20190715T163349Z
LAST-MODIFIED:20190715T163349Z
UID:18736-1757444400-1757451600@stpaulsfallschurch.org
SUMMARY:Board of Evangelism
DESCRIPTION:
URL:https://stpaulsfallschurch.org/event/board-of-evangelism/2025-09-09/
END:VEVENT
BEGIN:VEVENT
DTSTART;TZID=America/New_York:20250812T190000
DTEND;TZID=America/New_York:20250812T210000
DTSTAMP:20260420T082909
CREATED:20190715T163349Z
LAST-MODIFIED:20190715T163349Z
UID:18659-1755025200-1755032400@stpaulsfallschurch.org
SUMMARY:Board of Evangelism
DESCRIPTION:
URL:https://stpaulsfallschurch.org/event/board-of-evangelism/2025-08-12/
END:VEVENT
BEGIN:VEVENT
DTSTART;TZID=America/New_York:20250708T190000
DTEND;TZID=America/New_York:20250708T210000
DTSTAMP:20260420T082909
CREATED:20190715T163349Z
LAST-MODIFIED:20190715T163349Z
UID:18554-1752001200-1752008400@stpaulsfallschurch.org
SUMMARY:Board of Evangelism
DESCRIPTION:
URL:https://stpaulsfallschurch.org/event/board-of-evangelism/2025-07-08/
END:VEVENT
BEGIN:VEVENT
DTSTART;TZID=America/New_York:20250610T190000
DTEND;TZID=America/New_York:20250610T210000
DTSTAMP:20260420T082909
CREATED:20190715T163349Z
LAST-MODIFIED:20190715T163349Z
UID:18484-1749582000-1749589200@stpaulsfallschurch.org
SUMMARY:Board of Evangelism
DESCRIPTION:
URL:https://stpaulsfallschurch.org/event/board-of-evangelism/2025-06-10/
END:VEVENT
BEGIN:VEVENT
DTSTART;TZID=America/New_York:20250513T190000
DTEND;TZID=America/New_York:20250513T210000
DTSTAMP:20260420T082909
CREATED:20190715T163349Z
LAST-MODIFIED:20190715T163349Z
UID:18391-1747162800-1747170000@stpaulsfallschurch.org
SUMMARY:Board of Evangelism
DESCRIPTION:
URL:https://stpaulsfallschurch.org/event/board-of-evangelism/2025-05-13/
END:VEVENT
BEGIN:VEVENT
DTSTART;TZID=America/New_York:20250408T190000
DTEND;TZID=America/New_York:20250408T210000
DTSTAMP:20260420T082909
CREATED:20190715T163349Z
LAST-MODIFIED:20190715T163349Z
UID:18280-1744138800-1744146000@stpaulsfallschurch.org
SUMMARY:Board of Evangelism
DESCRIPTION:
URL:https://stpaulsfallschurch.org/event/board-of-evangelism/2025-04-08/
END:VEVENT
BEGIN:VEVENT
DTSTART;TZID=America/New_York:20250311T190000
DTEND;TZID=America/New_York:20250311T210000
DTSTAMP:20260420T082909
CREATED:20190715T163349Z
LAST-MODIFIED:20190715T163349Z
UID:18178-1741719600-1741726800@stpaulsfallschurch.org
SUMMARY:Board of Evangelism
DESCRIPTION:
URL:https://stpaulsfallschurch.org/event/board-of-evangelism/2025-03-11/
END:VEVENT
BEGIN:VEVENT
DTSTART;TZID=America/New_York:20250211T190000
DTEND;TZID=America/New_York:20250211T210000
DTSTAMP:20260420T082909
CREATED:20190715T163349Z
LAST-MODIFIED:20190715T163349Z
UID:18022-1739300400-1739307600@stpaulsfallschurch.org
SUMMARY:Board of Evangelism
DESCRIPTION:
URL:https://stpaulsfallschurch.org/event/board-of-evangelism/2025-02-11/
END:VEVENT
BEGIN:VEVENT
DTSTART;TZID=America/New_York:20250114T190000
DTEND;TZID=America/New_York:20250114T210000
DTSTAMP:20260420T082909
CREATED:20190715T163349Z
LAST-MODIFIED:20190715T163349Z
UID:17949-1736881200-1736888400@stpaulsfallschurch.org
SUMMARY:Board of Evangelism
DESCRIPTION:
URL:https://stpaulsfallschurch.org/event/board-of-evangelism/2025-01-14/
END:VEVENT
BEGIN:VEVENT
DTSTART;TZID=America/New_York:20241210T190000
DTEND;TZID=America/New_York:20241210T210000
DTSTAMP:20260420T082909
CREATED:20190715T163349Z
LAST-MODIFIED:20190715T163349Z
UID:17824-1733857200-1733864400@stpaulsfallschurch.org
SUMMARY:Board of Evangelism
DESCRIPTION:
URL:https://stpaulsfallschurch.org/event/board-of-evangelism/2024-12-10/
END:VEVENT
BEGIN:VEVENT
DTSTART;TZID=America/New_York:20241112T190000
DTEND;TZID=America/New_York:20241112T210000
DTSTAMP:20260420T082909
CREATED:20190715T163349Z
LAST-MODIFIED:20190715T163349Z
UID:17709-1731438000-1731445200@stpaulsfallschurch.org
SUMMARY:Board of Evangelism
DESCRIPTION:
URL:https://stpaulsfallschurch.org/event/board-of-evangelism/2024-11-12/
END:VEVENT
BEGIN:VEVENT
DTSTART;TZID=America/New_York:20241008T190000
DTEND;TZID=America/New_York:20241008T210000
DTSTAMP:20260420T082909
CREATED:20190715T163349Z
LAST-MODIFIED:20190715T163349Z
UID:17602-1728414000-1728421200@stpaulsfallschurch.org
SUMMARY:Board of Evangelism
DESCRIPTION:
URL:https://stpaulsfallschurch.org/event/board-of-evangelism/2024-10-08/
END:VEVENT
BEGIN:VEVENT
DTSTART;TZID=America/New_York:20240910T190000
DTEND;TZID=America/New_York:20240910T210000
DTSTAMP:20260420T082909
CREATED:20190715T163349Z
LAST-MODIFIED:20190715T163349Z
UID:17511-1725994800-1726002000@stpaulsfallschurch.org
SUMMARY:Board of Evangelism
DESCRIPTION:
URL:https://stpaulsfallschurch.org/event/board-of-evangelism/2024-09-10/
END:VEVENT
BEGIN:VEVENT
DTSTART;TZID=America/New_York:20240813T190000
DTEND;TZID=America/New_York:20240813T210000
DTSTAMP:20260420T082909
CREATED:20190715T163349Z
LAST-MODIFIED:20190715T163349Z
UID:17410-1723575600-1723582800@stpaulsfallschurch.org
SUMMARY:Board of Evangelism
DESCRIPTION:
URL:https://stpaulsfallschurch.org/event/board-of-evangelism/2024-08-13/
END:VEVENT
BEGIN:VEVENT
DTSTART;TZID=America/New_York:20240709T190000
DTEND;TZID=America/New_York:20240709T210000
DTSTAMP:20260420T082909
CREATED:20190715T163349Z
LAST-MODIFIED:20190715T163349Z
UID:17317-1720551600-1720558800@stpaulsfallschurch.org
SUMMARY:Board of Evangelism
DESCRIPTION:
URL:https://stpaulsfallschurch.org/event/board-of-evangelism/2024-07-09/
END:VEVENT
BEGIN:VEVENT
DTSTART;TZID=America/New_York:20240611T190000
DTEND;TZID=America/New_York:20240611T210000
DTSTAMP:20260420T082909
CREATED:20190715T163349Z
LAST-MODIFIED:20190715T163349Z
UID:17224-1718132400-1718139600@stpaulsfallschurch.org
SUMMARY:Board of Evangelism
DESCRIPTION:
URL:https://stpaulsfallschurch.org/event/board-of-evangelism/2024-06-11/
END:VEVENT
BEGIN:VEVENT
DTSTART;TZID=America/New_York:20240514T190000
DTEND;TZID=America/New_York:20240514T210000
DTSTAMP:20260420T082909
CREATED:20190715T163349Z
LAST-MODIFIED:20190715T163349Z
UID:17165-1715713200-1715720400@stpaulsfallschurch.org
SUMMARY:Board of Evangelism
DESCRIPTION:
URL:https://stpaulsfallschurch.org/event/board-of-evangelism/2024-05-14/
END:VEVENT
BEGIN:VEVENT
DTSTART;TZID=America/New_York:20190709T190000
DTEND;TZID=America/New_York:20190709T210000
DTSTAMP:20260420T082909
CREATED:20190715T163349Z
LAST-MODIFIED:20190715T163349Z
UID:11635-1562698800-1562706000@stpaulsfallschurch.org
SUMMARY:Board of Evangelism
DESCRIPTION:
URL:https://stpaulsfallschurch.org/event/board-of-evangelism/2019-07-09/
END:VEVENT
END:VCALENDAR