BEGIN:VCALENDAR
VERSION:2.0
PRODID:-//St. Paul&#039;s Lutheran Church | Falls Church Virginia - ECPv6.3.5//NONSGML v1.0//EN
CALSCALE:GREGORIAN
METHOD:PUBLISH
X-ORIGINAL-URL:https://stpaulsfallschurch.org
X-WR-CALDESC:Events for St. Paul&#039;s Lutheran Church | Falls Church Virginia
REFRESH-INTERVAL;VALUE=DURATION:PT1H
X-Robots-Tag:noindex
X-PUBLISHED-TTL:PT1H
BEGIN:VTIMEZONE
TZID:America/New_York
BEGIN:DAYLIGHT
TZOFFSETFROM:-0500
TZOFFSETTO:-0400
TZNAME:EDT
DTSTART:20260308T070000
END:DAYLIGHT
BEGIN:STANDARD
TZOFFSETFROM:-0400
TZOFFSETTO:-0500
TZNAME:EST
DTSTART:20261101T060000
END:STANDARD
BEGIN:DAYLIGHT
TZOFFSETFROM:-0500
TZOFFSETTO:-0400
TZNAME:EDT
DTSTART:20270314T070000
END:DAYLIGHT
BEGIN:STANDARD
TZOFFSETFROM:-0400
TZOFFSETTO:-0500
TZNAME:EST
DTSTART:20271107T060000
END:STANDARD
BEGIN:DAYLIGHT
TZOFFSETFROM:-0500
TZOFFSETTO:-0400
TZNAME:EDT
DTSTART:20280312T070000
END:DAYLIGHT
BEGIN:STANDARD
TZOFFSETFROM:-0400
TZOFFSETTO:-0500
TZNAME:EST
DTSTART:20281105T060000
END:STANDARD
END:VTIMEZONE
BEGIN:VEVENT
DTSTART;TZID=America/New_York:20260517T121500
DTEND;TZID=America/New_York:20260517T133000
DTSTAMP:20260420T082829
CREATED:20190716T144826Z
LAST-MODIFIED:20190716T144826Z
UID:20205-1779020100-1779024600@stpaulsfallschurch.org
SUMMARY:Board of Fellowship
DESCRIPTION:
URL:https://stpaulsfallschurch.org/event/board-of-fellowship/2026-05-17/
END:VEVENT
BEGIN:VEVENT
DTSTART;TZID=America/New_York:20260621T121500
DTEND;TZID=America/New_York:20260621T133000
DTSTAMP:20260420T082829
CREATED:20190716T144826Z
LAST-MODIFIED:20190716T144826Z
UID:20295-1782044100-1782048600@stpaulsfallschurch.org
SUMMARY:Board of Fellowship
DESCRIPTION:
URL:https://stpaulsfallschurch.org/event/board-of-fellowship/2026-06-21/
END:VEVENT
BEGIN:VEVENT
DTSTART;TZID=America/New_York:20260719T121500
DTEND;TZID=America/New_York:20260719T133000
DTSTAMP:20260420T082829
CREATED:20190716T144826Z
LAST-MODIFIED:20190716T144826Z
UID:20387-1784463300-1784467800@stpaulsfallschurch.org
SUMMARY:Board of Fellowship
DESCRIPTION:
URL:https://stpaulsfallschurch.org/event/board-of-fellowship/2026-07-19/
END:VEVENT
BEGIN:VEVENT
DTSTART;TZID=America/New_York:20260816T121500
DTEND;TZID=America/New_York:20260816T133000
DTSTAMP:20260420T082829
CREATED:20190716T144826Z
LAST-MODIFIED:20190716T144826Z
UID:20460-1786882500-1786887000@stpaulsfallschurch.org
SUMMARY:Board of Fellowship
DESCRIPTION:
URL:https://stpaulsfallschurch.org/event/board-of-fellowship/2026-08-16/
END:VEVENT
BEGIN:VEVENT
DTSTART;TZID=America/New_York:20260920T121500
DTEND;TZID=America/New_York:20260920T133000
DTSTAMP:20260420T082829
CREATED:20190716T144826Z
LAST-MODIFIED:20190716T144826Z
UID:20567-1789906500-1789911000@stpaulsfallschurch.org
SUMMARY:Board of Fellowship
DESCRIPTION:
URL:https://stpaulsfallschurch.org/event/board-of-fellowship/2026-09-20/
END:VEVENT
BEGIN:VEVENT
DTSTART;TZID=America/New_York:20261018T121500
DTEND;TZID=America/New_York:20261018T133000
DTSTAMP:20260420T082829
CREATED:20190716T144826Z
LAST-MODIFIED:20190716T144826Z
UID:20641-1792325700-1792330200@stpaulsfallschurch.org
SUMMARY:Board of Fellowship
DESCRIPTION:
URL:https://stpaulsfallschurch.org/event/board-of-fellowship/2026-10-18/
END:VEVENT
BEGIN:VEVENT
DTSTART;TZID=America/New_York:20261115T121500
DTEND;TZID=America/New_York:20261115T133000
DTSTAMP:20260420T082829
CREATED:20190716T144826Z
LAST-MODIFIED:20190716T144826Z
UID:20730-1794744900-1794749400@stpaulsfallschurch.org
SUMMARY:Board of Fellowship
DESCRIPTION:
URL:https://stpaulsfallschurch.org/event/board-of-fellowship/2026-11-15/
END:VEVENT
BEGIN:VEVENT
DTSTART;TZID=America/New_York:20261220T121500
DTEND;TZID=America/New_York:20261220T133000
DTSTAMP:20260420T082829
CREATED:20190716T144826Z
LAST-MODIFIED:20190716T144826Z
UID:20845-1797768900-1797773400@stpaulsfallschurch.org
SUMMARY:Board of Fellowship
DESCRIPTION:
URL:https://stpaulsfallschurch.org/event/board-of-fellowship/2026-12-20/
END:VEVENT
BEGIN:VEVENT
DTSTART;TZID=America/New_York:20270117T121500
DTEND;TZID=America/New_York:20270117T133000
DTSTAMP:20260420T082829
CREATED:20190716T144826Z
LAST-MODIFIED:20190716T144826Z
UID:20945-1800188100-1800192600@stpaulsfallschurch.org
SUMMARY:Board of Fellowship
DESCRIPTION:
URL:https://stpaulsfallschurch.org/event/board-of-fellowship/2027-01-17/
END:VEVENT
BEGIN:VEVENT
DTSTART;TZID=America/New_York:20270221T121500
DTEND;TZID=America/New_York:20270221T133000
DTSTAMP:20260420T082829
CREATED:20190716T144826Z
LAST-MODIFIED:20190716T144826Z
UID:21043-1803212100-1803216600@stpaulsfallschurch.org
SUMMARY:Board of Fellowship
DESCRIPTION:
URL:https://stpaulsfallschurch.org/event/board-of-fellowship/2027-02-21/
END:VEVENT
BEGIN:VEVENT
DTSTART;TZID=America/New_York:20270321T121500
DTEND;TZID=America/New_York:20270321T133000
DTSTAMP:20260420T082829
CREATED:20190716T144826Z
LAST-MODIFIED:20190716T144826Z
UID:21152-1805631300-1805635800@stpaulsfallschurch.org
SUMMARY:Board of Fellowship
DESCRIPTION:
URL:https://stpaulsfallschurch.org/event/board-of-fellowship/2027-03-21/
END:VEVENT
BEGIN:VEVENT
DTSTART;TZID=America/New_York:20270418T121500
DTEND;TZID=America/New_York:20270418T133000
DTSTAMP:20260420T082829
CREATED:20190716T144826Z
LAST-MODIFIED:20190716T144826Z
UID:21282-1808050500-1808055000@stpaulsfallschurch.org
SUMMARY:Board of Fellowship
DESCRIPTION:
URL:https://stpaulsfallschurch.org/event/board-of-fellowship/2027-04-18/
END:VEVENT
BEGIN:VEVENT
DTSTART;TZID=America/New_York:20270516T121500
DTEND;TZID=America/New_York:20270516T133000
DTSTAMP:20260420T082829
CREATED:20190716T144826Z
LAST-MODIFIED:20190716T144826Z
UID:21352-1810469700-1810474200@stpaulsfallschurch.org
SUMMARY:Board of Fellowship
DESCRIPTION:
URL:https://stpaulsfallschurch.org/event/board-of-fellowship/2027-05-16/
END:VEVENT
BEGIN:VEVENT
DTSTART;TZID=America/New_York:20270620T121500
DTEND;TZID=America/New_York:20270620T133000
DTSTAMP:20260420T082829
CREATED:20190716T144826Z
LAST-MODIFIED:20190716T144826Z
UID:21458-1813493700-1813498200@stpaulsfallschurch.org
SUMMARY:Board of Fellowship
DESCRIPTION:
URL:https://stpaulsfallschurch.org/event/board-of-fellowship/2027-06-20/
END:VEVENT
BEGIN:VEVENT
DTSTART;TZID=America/New_York:20270718T121500
DTEND;TZID=America/New_York:20270718T133000
DTSTAMP:20260420T082829
CREATED:20190716T144826Z
LAST-MODIFIED:20190716T144826Z
UID:21537-1815912900-1815917400@stpaulsfallschurch.org
SUMMARY:Board of Fellowship
DESCRIPTION:
URL:https://stpaulsfallschurch.org/event/board-of-fellowship/2027-07-18/
END:VEVENT
BEGIN:VEVENT
DTSTART;TZID=America/New_York:20270815T121500
DTEND;TZID=America/New_York:20270815T133000
DTSTAMP:20260420T082829
CREATED:20190716T144826Z
LAST-MODIFIED:20190716T144826Z
UID:21613-1818332100-1818336600@stpaulsfallschurch.org
SUMMARY:Board of Fellowship
DESCRIPTION:
URL:https://stpaulsfallschurch.org/event/board-of-fellowship/2027-08-15/
END:VEVENT
BEGIN:VEVENT
DTSTART;TZID=America/New_York:20270919T121500
DTEND;TZID=America/New_York:20270919T133000
DTSTAMP:20260420T082829
CREATED:20190716T144826Z
LAST-MODIFIED:20190716T144826Z
UID:21703-1821356100-1821360600@stpaulsfallschurch.org
SUMMARY:Board of Fellowship
DESCRIPTION:
URL:https://stpaulsfallschurch.org/event/board-of-fellowship/2027-09-19/
END:VEVENT
BEGIN:VEVENT
DTSTART;TZID=America/New_York:20271017T121500
DTEND;TZID=America/New_York:20271017T133000
DTSTAMP:20260420T082829
CREATED:20190716T144826Z
LAST-MODIFIED:20190716T144826Z
UID:21778-1823775300-1823779800@stpaulsfallschurch.org
SUMMARY:Board of Fellowship
DESCRIPTION:
URL:https://stpaulsfallschurch.org/event/board-of-fellowship/2027-10-17/
END:VEVENT
BEGIN:VEVENT
DTSTART;TZID=America/New_York:20271121T121500
DTEND;TZID=America/New_York:20271121T133000
DTSTAMP:20260420T082829
CREATED:20190716T144826Z
LAST-MODIFIED:20190716T144826Z
UID:21887-1826799300-1826803800@stpaulsfallschurch.org
SUMMARY:Board of Fellowship
DESCRIPTION:
URL:https://stpaulsfallschurch.org/event/board-of-fellowship/2027-11-21/
END:VEVENT
BEGIN:VEVENT
DTSTART;TZID=America/New_York:20271219T121500
DTEND;TZID=America/New_York:20271219T133000
DTSTAMP:20260420T082829
CREATED:20190716T144826Z
LAST-MODIFIED:20190716T144826Z
UID:22006-1829218500-1829223000@stpaulsfallschurch.org
SUMMARY:Board of Fellowship
DESCRIPTION:
URL:https://stpaulsfallschurch.org/event/board-of-fellowship/2027-12-19/
END:VEVENT
BEGIN:VEVENT
DTSTART;TZID=America/New_York:20280116T121500
DTEND;TZID=America/New_York:20280116T133000
DTSTAMP:20260420T082829
CREATED:20190716T144826Z
LAST-MODIFIED:20190716T144826Z
UID:22099-1831637700-1831642200@stpaulsfallschurch.org
SUMMARY:Board of Fellowship
DESCRIPTION:
URL:https://stpaulsfallschurch.org/event/board-of-fellowship/2028-01-16/
END:VEVENT
BEGIN:VEVENT
DTSTART;TZID=America/New_York:20280220T121500
DTEND;TZID=America/New_York:20280220T133000
DTSTAMP:20260420T082829
CREATED:20190716T144826Z
LAST-MODIFIED:20190716T144826Z
UID:22219-1834661700-1834666200@stpaulsfallschurch.org
SUMMARY:Board of Fellowship
DESCRIPTION:
URL:https://stpaulsfallschurch.org/event/board-of-fellowship/2028-02-20/
END:VEVENT
BEGIN:VEVENT
DTSTART;TZID=America/New_York:20280319T121500
DTEND;TZID=America/New_York:20280319T133000
DTSTAMP:20260420T082829
CREATED:20190716T144826Z
LAST-MODIFIED:20190716T144826Z
UID:22354-1837080900-1837085400@stpaulsfallschurch.org
SUMMARY:Board of Fellowship
DESCRIPTION:
URL:https://stpaulsfallschurch.org/event/board-of-fellowship/2028-03-19/
END:VEVENT
BEGIN:VEVENT
DTSTART;TZID=America/New_York:20280416T121500
DTEND;TZID=America/New_York:20280416T133000
DTSTAMP:20260420T082829
CREATED:20190716T144826Z
LAST-MODIFIED:20190716T144826Z
UID:22482-1839500100-1839504600@stpaulsfallschurch.org
SUMMARY:Board of Fellowship
DESCRIPTION:
URL:https://stpaulsfallschurch.org/event/board-of-fellowship/2028-04-16/
END:VEVENT
END:VCALENDAR