BEGIN:VCALENDAR
VERSION:2.0
PRODID:-//St. Paul&#039;s Lutheran Church | Falls Church Virginia - ECPv6.3.5//NONSGML v1.0//EN
CALSCALE:GREGORIAN
METHOD:PUBLISH
X-WR-CALNAME:St. Paul&#039;s Lutheran Church | Falls Church Virginia
X-ORIGINAL-URL:https://stpaulsfallschurch.org
X-WR-CALDESC:Events for St. Paul&#039;s Lutheran Church | Falls Church Virginia
REFRESH-INTERVAL;VALUE=DURATION:PT1H
X-Robots-Tag:noindex
X-PUBLISHED-TTL:PT1H
BEGIN:VTIMEZONE
TZID:America/New_York
BEGIN:DAYLIGHT
TZOFFSETFROM:-0500
TZOFFSETTO:-0400
TZNAME:EDT
DTSTART:20260308T070000
END:DAYLIGHT
BEGIN:STANDARD
TZOFFSETFROM:-0400
TZOFFSETTO:-0500
TZNAME:EST
DTSTART:20261101T060000
END:STANDARD
END:VTIMEZONE
BEGIN:VEVENT
DTSTART;TZID=America/New_York:20260301T090000
DTEND;TZID=America/New_York:20260301T093000
DTSTAMP:20260224T054634
CREATED:20190715T181220Z
LAST-MODIFIED:20190715T181220Z
UID:19668-1772355600-1772357400@stpaulsfallschurch.org
SUMMARY:Fellowship
DESCRIPTION:Join us for a cup of coffee/tea\, a snack and fellowship 9:00 a.m and 10:30 a.m.
URL:https://stpaulsfallschurch.org/event/fellowship/2026-03-01/
END:VEVENT
BEGIN:VEVENT
DTSTART;TZID=America/New_York:20260301T103000
DTEND;TZID=America/New_York:20260301T110000
DTSTAMP:20260224T054634
CREATED:20190715T181220Z
LAST-MODIFIED:20190715T181220Z
UID:19909-1772361000-1772362800@stpaulsfallschurch.org
SUMMARY:Fellowship
DESCRIPTION:Join us for a cup of coffee/tea\, a snack and fellowship 9:00 a.m and 10:30 a.m.
URL:https://stpaulsfallschurch.org/event/fellowship/2026-03-01/
END:VEVENT
BEGIN:VEVENT
DTSTART;TZID=America/New_York:20260308T090000
DTEND;TZID=America/New_York:20260308T093000
DTSTAMP:20260224T054634
CREATED:20190715T181220Z
LAST-MODIFIED:20190715T181220Z
UID:19669-1772960400-1772962200@stpaulsfallschurch.org
SUMMARY:Fellowship
DESCRIPTION:Join us for a cup of coffee/tea\, a snack and fellowship 9:00 a.m and 10:30 a.m.
URL:https://stpaulsfallschurch.org/event/fellowship/2026-03-08/
END:VEVENT
BEGIN:VEVENT
DTSTART;TZID=America/New_York:20260308T103000
DTEND;TZID=America/New_York:20260308T110000
DTSTAMP:20260224T054634
CREATED:20190715T181220Z
LAST-MODIFIED:20190715T181220Z
UID:19910-1772965800-1772967600@stpaulsfallschurch.org
SUMMARY:Fellowship
DESCRIPTION:Join us for a cup of coffee/tea\, a snack and fellowship 9:00 a.m and 10:30 a.m.
URL:https://stpaulsfallschurch.org/event/fellowship/2026-03-08/
END:VEVENT
BEGIN:VEVENT
DTSTART;TZID=America/New_York:20260315T090000
DTEND;TZID=America/New_York:20260315T093000
DTSTAMP:20260224T054634
CREATED:20190715T181220Z
LAST-MODIFIED:20190715T181220Z
UID:19670-1773565200-1773567000@stpaulsfallschurch.org
SUMMARY:Fellowship
DESCRIPTION:Join us for a cup of coffee/tea\, a snack and fellowship 9:00 a.m and 10:30 a.m.
URL:https://stpaulsfallschurch.org/event/fellowship/2026-03-15/
END:VEVENT
BEGIN:VEVENT
DTSTART;TZID=America/New_York:20260315T103000
DTEND;TZID=America/New_York:20260315T110000
DTSTAMP:20260224T054634
CREATED:20190715T181220Z
LAST-MODIFIED:20190715T181220Z
UID:19911-1773570600-1773572400@stpaulsfallschurch.org
SUMMARY:Fellowship
DESCRIPTION:Join us for a cup of coffee/tea\, a snack and fellowship 9:00 a.m and 10:30 a.m.
URL:https://stpaulsfallschurch.org/event/fellowship/2026-03-15/
END:VEVENT
BEGIN:VEVENT
DTSTART;TZID=America/New_York:20260322T090000
DTEND;TZID=America/New_York:20260322T093000
DTSTAMP:20260224T054634
CREATED:20190715T181220Z
LAST-MODIFIED:20190715T181220Z
UID:19671-1774170000-1774171800@stpaulsfallschurch.org
SUMMARY:Fellowship
DESCRIPTION:Join us for a cup of coffee/tea\, a snack and fellowship 9:00 a.m and 10:30 a.m.
URL:https://stpaulsfallschurch.org/event/fellowship/2026-03-22/
END:VEVENT
BEGIN:VEVENT
DTSTART;TZID=America/New_York:20260322T103000
DTEND;TZID=America/New_York:20260322T110000
DTSTAMP:20260224T054634
CREATED:20190715T181220Z
LAST-MODIFIED:20190715T181220Z
UID:19912-1774175400-1774177200@stpaulsfallschurch.org
SUMMARY:Fellowship
DESCRIPTION:Join us for a cup of coffee/tea\, a snack and fellowship 9:00 a.m and 10:30 a.m.
URL:https://stpaulsfallschurch.org/event/fellowship/2026-03-22/
END:VEVENT
BEGIN:VEVENT
DTSTART;TZID=America/New_York:20260329T090000
DTEND;TZID=America/New_York:20260329T093000
DTSTAMP:20260224T054634
CREATED:20190715T181220Z
LAST-MODIFIED:20190715T181220Z
UID:20049-1774774800-1774776600@stpaulsfallschurch.org
SUMMARY:Fellowship
DESCRIPTION:Join us for a cup of coffee/tea\, a snack and fellowship 9:00 a.m and 10:30 a.m.
URL:https://stpaulsfallschurch.org/event/fellowship/2026-03-29/
END:VEVENT
BEGIN:VEVENT
DTSTART;TZID=America/New_York:20260329T103000
DTEND;TZID=America/New_York:20260329T110000
DTSTAMP:20260224T054634
CREATED:20190715T181220Z
LAST-MODIFIED:20190715T181220Z
UID:20050-1774780200-1774782000@stpaulsfallschurch.org
SUMMARY:Fellowship
DESCRIPTION:Join us for a cup of coffee/tea\, a snack and fellowship 9:00 a.m and 10:30 a.m.
URL:https://stpaulsfallschurch.org/event/fellowship/2026-03-29/
END:VEVENT
BEGIN:VEVENT
DTSTART;TZID=America/New_York:20260405T090000
DTEND;TZID=America/New_York:20260405T093000
DTSTAMP:20260224T054634
CREATED:20190715T181220Z
LAST-MODIFIED:20190715T181220Z
UID:20075-1775379600-1775381400@stpaulsfallschurch.org
SUMMARY:Fellowship
DESCRIPTION:Join us for a cup of coffee/tea\, a snack and fellowship 9:00 a.m and 10:30 a.m.
URL:https://stpaulsfallschurch.org/event/fellowship/2026-04-05/
END:VEVENT
BEGIN:VEVENT
DTSTART;TZID=America/New_York:20260405T103000
DTEND;TZID=America/New_York:20260405T110000
DTSTAMP:20260224T054634
CREATED:20190715T181220Z
LAST-MODIFIED:20190715T181220Z
UID:20076-1775385000-1775386800@stpaulsfallschurch.org
SUMMARY:Fellowship
DESCRIPTION:Join us for a cup of coffee/tea\, a snack and fellowship 9:00 a.m and 10:30 a.m.
URL:https://stpaulsfallschurch.org/event/fellowship/2026-04-05/
END:VEVENT
BEGIN:VEVENT
DTSTART;TZID=America/New_York:20260412T090000
DTEND;TZID=America/New_York:20260412T093000
DTSTAMP:20260224T054634
CREATED:20190715T181220Z
LAST-MODIFIED:20190715T181220Z
UID:20095-1775984400-1775986200@stpaulsfallschurch.org
SUMMARY:Fellowship
DESCRIPTION:Join us for a cup of coffee/tea\, a snack and fellowship 9:00 a.m and 10:30 a.m.
URL:https://stpaulsfallschurch.org/event/fellowship/2026-04-12/
END:VEVENT
BEGIN:VEVENT
DTSTART;TZID=America/New_York:20260412T103000
DTEND;TZID=America/New_York:20260412T110000
DTSTAMP:20260224T054634
CREATED:20190715T181220Z
LAST-MODIFIED:20190715T181220Z
UID:20096-1775989800-1775991600@stpaulsfallschurch.org
SUMMARY:Fellowship
DESCRIPTION:Join us for a cup of coffee/tea\, a snack and fellowship 9:00 a.m and 10:30 a.m.
URL:https://stpaulsfallschurch.org/event/fellowship/2026-04-12/
END:VEVENT
BEGIN:VEVENT
DTSTART;TZID=America/New_York:20260419T090000
DTEND;TZID=America/New_York:20260419T093000
DTSTAMP:20260224T054634
CREATED:20190715T181220Z
LAST-MODIFIED:20190715T181220Z
UID:20110-1776589200-1776591000@stpaulsfallschurch.org
SUMMARY:Fellowship
DESCRIPTION:Join us for a cup of coffee/tea\, a snack and fellowship 9:00 a.m and 10:30 a.m.
URL:https://stpaulsfallschurch.org/event/fellowship/2026-04-19/
END:VEVENT
BEGIN:VEVENT
DTSTART;TZID=America/New_York:20260419T103000
DTEND;TZID=America/New_York:20260419T110000
DTSTAMP:20260224T054634
CREATED:20190715T181220Z
LAST-MODIFIED:20190715T181220Z
UID:20111-1776594600-1776596400@stpaulsfallschurch.org
SUMMARY:Fellowship
DESCRIPTION:Join us for a cup of coffee/tea\, a snack and fellowship 9:00 a.m and 10:30 a.m.
URL:https://stpaulsfallschurch.org/event/fellowship/2026-04-19/
END:VEVENT
BEGIN:VEVENT
DTSTART;TZID=America/New_York:20260426T090000
DTEND;TZID=America/New_York:20260426T093000
DTSTAMP:20260224T054634
CREATED:20190715T181220Z
LAST-MODIFIED:20190715T181220Z
UID:20138-1777194000-1777195800@stpaulsfallschurch.org
SUMMARY:Fellowship
DESCRIPTION:Join us for a cup of coffee/tea\, a snack and fellowship 9:00 a.m and 10:30 a.m.
URL:https://stpaulsfallschurch.org/event/fellowship/2026-04-26/
END:VEVENT
BEGIN:VEVENT
DTSTART;TZID=America/New_York:20260426T103000
DTEND;TZID=America/New_York:20260426T110000
DTSTAMP:20260224T054634
CREATED:20190715T181220Z
LAST-MODIFIED:20190715T181220Z
UID:20139-1777199400-1777201200@stpaulsfallschurch.org
SUMMARY:Fellowship
DESCRIPTION:Join us for a cup of coffee/tea\, a snack and fellowship 9:00 a.m and 10:30 a.m.
URL:https://stpaulsfallschurch.org/event/fellowship/2026-04-26/
END:VEVENT
BEGIN:VEVENT
DTSTART;TZID=America/New_York:20260503T090000
DTEND;TZID=America/New_York:20260503T093000
DTSTAMP:20260224T054634
CREATED:20190715T181220Z
LAST-MODIFIED:20190715T181220Z
UID:20159-1777798800-1777800600@stpaulsfallschurch.org
SUMMARY:Fellowship
DESCRIPTION:Join us for a cup of coffee/tea\, a snack and fellowship 9:00 a.m and 10:30 a.m.
URL:https://stpaulsfallschurch.org/event/fellowship/2026-05-03/
END:VEVENT
BEGIN:VEVENT
DTSTART;TZID=America/New_York:20260503T103000
DTEND;TZID=America/New_York:20260503T110000
DTSTAMP:20260224T054634
CREATED:20190715T181220Z
LAST-MODIFIED:20190715T181220Z
UID:20160-1777804200-1777806000@stpaulsfallschurch.org
SUMMARY:Fellowship
DESCRIPTION:Join us for a cup of coffee/tea\, a snack and fellowship 9:00 a.m and 10:30 a.m.
URL:https://stpaulsfallschurch.org/event/fellowship/2026-05-03/
END:VEVENT
BEGIN:VEVENT
DTSTART;TZID=America/New_York:20260510T090000
DTEND;TZID=America/New_York:20260510T093000
DTSTAMP:20260224T054634
CREATED:20190715T181220Z
LAST-MODIFIED:20190715T181220Z
UID:20178-1778403600-1778405400@stpaulsfallschurch.org
SUMMARY:Fellowship
DESCRIPTION:Join us for a cup of coffee/tea\, a snack and fellowship 9:00 a.m and 10:30 a.m.
URL:https://stpaulsfallschurch.org/event/fellowship/2026-05-10/
END:VEVENT
BEGIN:VEVENT
DTSTART;TZID=America/New_York:20260510T103000
DTEND;TZID=America/New_York:20260510T110000
DTSTAMP:20260224T054634
CREATED:20190715T181220Z
LAST-MODIFIED:20190715T181220Z
UID:20179-1778409000-1778410800@stpaulsfallschurch.org
SUMMARY:Fellowship
DESCRIPTION:Join us for a cup of coffee/tea\, a snack and fellowship 9:00 a.m and 10:30 a.m.
URL:https://stpaulsfallschurch.org/event/fellowship/2026-05-10/
END:VEVENT
BEGIN:VEVENT
DTSTART;TZID=America/New_York:20260517T090000
DTEND;TZID=America/New_York:20260517T093000
DTSTAMP:20260224T054634
CREATED:20190715T181220Z
LAST-MODIFIED:20190715T181220Z
UID:20203-1779008400-1779010200@stpaulsfallschurch.org
SUMMARY:Fellowship
DESCRIPTION:Join us for a cup of coffee/tea\, a snack and fellowship 9:00 a.m and 10:30 a.m.
URL:https://stpaulsfallschurch.org/event/fellowship/2026-05-17/
END:VEVENT
BEGIN:VEVENT
DTSTART;TZID=America/New_York:20260517T103000
DTEND;TZID=America/New_York:20260517T110000
DTSTAMP:20260224T054634
CREATED:20190715T181220Z
LAST-MODIFIED:20190715T181220Z
UID:20204-1779013800-1779015600@stpaulsfallschurch.org
SUMMARY:Fellowship
DESCRIPTION:Join us for a cup of coffee/tea\, a snack and fellowship 9:00 a.m and 10:30 a.m.
URL:https://stpaulsfallschurch.org/event/fellowship/2026-05-17/
END:VEVENT
BEGIN:VEVENT
DTSTART;TZID=America/New_York:20260524T090000
DTEND;TZID=America/New_York:20260524T093000
DTSTAMP:20260224T054634
CREATED:20190715T181220Z
LAST-MODIFIED:20190715T181220Z
UID:20222-1779613200-1779615000@stpaulsfallschurch.org
SUMMARY:Fellowship
DESCRIPTION:Join us for a cup of coffee/tea\, a snack and fellowship 9:00 a.m and 10:30 a.m.
URL:https://stpaulsfallschurch.org/event/fellowship/2026-05-24/
END:VEVENT
BEGIN:VEVENT
DTSTART;TZID=America/New_York:20260524T103000
DTEND;TZID=America/New_York:20260524T110000
DTSTAMP:20260224T054634
CREATED:20190715T181220Z
LAST-MODIFIED:20190715T181220Z
UID:20223-1779618600-1779620400@stpaulsfallschurch.org
SUMMARY:Fellowship
DESCRIPTION:Join us for a cup of coffee/tea\, a snack and fellowship 9:00 a.m and 10:30 a.m.
URL:https://stpaulsfallschurch.org/event/fellowship/2026-05-24/
END:VEVENT
BEGIN:VEVENT
DTSTART;TZID=America/New_York:20260531T090000
DTEND;TZID=America/New_York:20260531T093000
DTSTAMP:20260224T054634
CREATED:20190715T181220Z
LAST-MODIFIED:20190715T181220Z
UID:20238-1780218000-1780219800@stpaulsfallschurch.org
SUMMARY:Fellowship
DESCRIPTION:Join us for a cup of coffee/tea\, a snack and fellowship 9:00 a.m and 10:30 a.m.
URL:https://stpaulsfallschurch.org/event/fellowship/2026-05-31/
END:VEVENT
BEGIN:VEVENT
DTSTART;TZID=America/New_York:20260531T103000
DTEND;TZID=America/New_York:20260531T110000
DTSTAMP:20260224T054634
CREATED:20190715T181220Z
LAST-MODIFIED:20190715T181220Z
UID:20239-1780223400-1780225200@stpaulsfallschurch.org
SUMMARY:Fellowship
DESCRIPTION:Join us for a cup of coffee/tea\, a snack and fellowship 9:00 a.m and 10:30 a.m.
URL:https://stpaulsfallschurch.org/event/fellowship/2026-05-31/
END:VEVENT
BEGIN:VEVENT
DTSTART;TZID=America/New_York:20260607T090000
DTEND;TZID=America/New_York:20260607T093000
DTSTAMP:20260224T054634
CREATED:20190715T181220Z
LAST-MODIFIED:20190715T181220Z
UID:20258-1780822800-1780824600@stpaulsfallschurch.org
SUMMARY:Fellowship
DESCRIPTION:Join us for a cup of coffee/tea\, a snack and fellowship 9:00 a.m and 10:30 a.m.
URL:https://stpaulsfallschurch.org/event/fellowship/2026-06-07/
END:VEVENT
BEGIN:VEVENT
DTSTART;TZID=America/New_York:20260607T103000
DTEND;TZID=America/New_York:20260607T110000
DTSTAMP:20260224T054634
CREATED:20190715T181220Z
LAST-MODIFIED:20190715T181220Z
UID:20259-1780828200-1780830000@stpaulsfallschurch.org
SUMMARY:Fellowship
DESCRIPTION:Join us for a cup of coffee/tea\, a snack and fellowship 9:00 a.m and 10:30 a.m.
URL:https://stpaulsfallschurch.org/event/fellowship/2026-06-07/
END:VEVENT
END:VCALENDAR