BEGIN:VCALENDAR
VERSION:2.0
PRODID:-//St. Paul&#039;s Lutheran Church | Falls Church Virginia - ECPv6.3.5//NONSGML v1.0//EN
CALSCALE:GREGORIAN
METHOD:PUBLISH
X-ORIGINAL-URL:https://stpaulsfallschurch.org
X-WR-CALDESC:Events for St. Paul&#039;s Lutheran Church | Falls Church Virginia
REFRESH-INTERVAL;VALUE=DURATION:PT1H
X-Robots-Tag:noindex
X-PUBLISHED-TTL:PT1H
BEGIN:VTIMEZONE
TZID:America/New_York
BEGIN:DAYLIGHT
TZOFFSETFROM:-0500
TZOFFSETTO:-0400
TZNAME:EDT
DTSTART:20260308T070000
END:DAYLIGHT
BEGIN:STANDARD
TZOFFSETFROM:-0400
TZOFFSETTO:-0500
TZNAME:EST
DTSTART:20261101T060000
END:STANDARD
END:VTIMEZONE
BEGIN:VEVENT
DTSTART;TZID=America/New_York:20260426T090000
DTEND;TZID=America/New_York:20260426T093000
DTSTAMP:20260420T094434
CREATED:20190715T181220Z
LAST-MODIFIED:20190715T181220Z
UID:20138-1777194000-1777195800@stpaulsfallschurch.org
SUMMARY:Fellowship
DESCRIPTION:Join us for a cup of coffee/tea\, a snack and fellowship 9:00 a.m and 10:30 a.m.
URL:https://stpaulsfallschurch.org/event/fellowship/2026-04-26/
END:VEVENT
BEGIN:VEVENT
DTSTART;TZID=America/New_York:20260426T103000
DTEND;TZID=America/New_York:20260426T110000
DTSTAMP:20260420T094434
CREATED:20190715T181220Z
LAST-MODIFIED:20190715T181220Z
UID:20139-1777199400-1777201200@stpaulsfallschurch.org
SUMMARY:Fellowship
DESCRIPTION:Join us for a cup of coffee/tea\, a snack and fellowship 9:00 a.m and 10:30 a.m.
URL:https://stpaulsfallschurch.org/event/fellowship/2026-04-26/
END:VEVENT
BEGIN:VEVENT
DTSTART;TZID=America/New_York:20260503T090000
DTEND;TZID=America/New_York:20260503T093000
DTSTAMP:20260420T094434
CREATED:20190715T181220Z
LAST-MODIFIED:20190715T181220Z
UID:20159-1777798800-1777800600@stpaulsfallschurch.org
SUMMARY:Fellowship
DESCRIPTION:Join us for a cup of coffee/tea\, a snack and fellowship 9:00 a.m and 10:30 a.m.
URL:https://stpaulsfallschurch.org/event/fellowship/2026-05-03/
END:VEVENT
BEGIN:VEVENT
DTSTART;TZID=America/New_York:20260503T103000
DTEND;TZID=America/New_York:20260503T110000
DTSTAMP:20260420T094434
CREATED:20190715T181220Z
LAST-MODIFIED:20190715T181220Z
UID:20160-1777804200-1777806000@stpaulsfallschurch.org
SUMMARY:Fellowship
DESCRIPTION:Join us for a cup of coffee/tea\, a snack and fellowship 9:00 a.m and 10:30 a.m.
URL:https://stpaulsfallschurch.org/event/fellowship/2026-05-03/
END:VEVENT
BEGIN:VEVENT
DTSTART;TZID=America/New_York:20260510T090000
DTEND;TZID=America/New_York:20260510T093000
DTSTAMP:20260420T094434
CREATED:20190715T181220Z
LAST-MODIFIED:20190715T181220Z
UID:20178-1778403600-1778405400@stpaulsfallschurch.org
SUMMARY:Fellowship
DESCRIPTION:Join us for a cup of coffee/tea\, a snack and fellowship 9:00 a.m and 10:30 a.m.
URL:https://stpaulsfallschurch.org/event/fellowship/2026-05-10/
END:VEVENT
BEGIN:VEVENT
DTSTART;TZID=America/New_York:20260510T103000
DTEND;TZID=America/New_York:20260510T110000
DTSTAMP:20260420T094434
CREATED:20190715T181220Z
LAST-MODIFIED:20190715T181220Z
UID:20179-1778409000-1778410800@stpaulsfallschurch.org
SUMMARY:Fellowship
DESCRIPTION:Join us for a cup of coffee/tea\, a snack and fellowship 9:00 a.m and 10:30 a.m.
URL:https://stpaulsfallschurch.org/event/fellowship/2026-05-10/
END:VEVENT
BEGIN:VEVENT
DTSTART;TZID=America/New_York:20260517T090000
DTEND;TZID=America/New_York:20260517T093000
DTSTAMP:20260420T094434
CREATED:20190715T181220Z
LAST-MODIFIED:20190715T181220Z
UID:20203-1779008400-1779010200@stpaulsfallschurch.org
SUMMARY:Fellowship
DESCRIPTION:Join us for a cup of coffee/tea\, a snack and fellowship 9:00 a.m and 10:30 a.m.
URL:https://stpaulsfallschurch.org/event/fellowship/2026-05-17/
END:VEVENT
BEGIN:VEVENT
DTSTART;TZID=America/New_York:20260517T103000
DTEND;TZID=America/New_York:20260517T110000
DTSTAMP:20260420T094434
CREATED:20190715T181220Z
LAST-MODIFIED:20190715T181220Z
UID:20204-1779013800-1779015600@stpaulsfallschurch.org
SUMMARY:Fellowship
DESCRIPTION:Join us for a cup of coffee/tea\, a snack and fellowship 9:00 a.m and 10:30 a.m.
URL:https://stpaulsfallschurch.org/event/fellowship/2026-05-17/
END:VEVENT
BEGIN:VEVENT
DTSTART;TZID=America/New_York:20260524T090000
DTEND;TZID=America/New_York:20260524T093000
DTSTAMP:20260420T094434
CREATED:20190715T181220Z
LAST-MODIFIED:20190715T181220Z
UID:20222-1779613200-1779615000@stpaulsfallschurch.org
SUMMARY:Fellowship
DESCRIPTION:Join us for a cup of coffee/tea\, a snack and fellowship 9:00 a.m and 10:30 a.m.
URL:https://stpaulsfallschurch.org/event/fellowship/2026-05-24/
END:VEVENT
BEGIN:VEVENT
DTSTART;TZID=America/New_York:20260524T103000
DTEND;TZID=America/New_York:20260524T110000
DTSTAMP:20260420T094434
CREATED:20190715T181220Z
LAST-MODIFIED:20190715T181220Z
UID:20223-1779618600-1779620400@stpaulsfallschurch.org
SUMMARY:Fellowship
DESCRIPTION:Join us for a cup of coffee/tea\, a snack and fellowship 9:00 a.m and 10:30 a.m.
URL:https://stpaulsfallschurch.org/event/fellowship/2026-05-24/
END:VEVENT
BEGIN:VEVENT
DTSTART;TZID=America/New_York:20260531T090000
DTEND;TZID=America/New_York:20260531T093000
DTSTAMP:20260420T094434
CREATED:20190715T181220Z
LAST-MODIFIED:20190715T181220Z
UID:20238-1780218000-1780219800@stpaulsfallschurch.org
SUMMARY:Fellowship
DESCRIPTION:Join us for a cup of coffee/tea\, a snack and fellowship 9:00 a.m and 10:30 a.m.
URL:https://stpaulsfallschurch.org/event/fellowship/2026-05-31/
END:VEVENT
BEGIN:VEVENT
DTSTART;TZID=America/New_York:20260531T103000
DTEND;TZID=America/New_York:20260531T110000
DTSTAMP:20260420T094434
CREATED:20190715T181220Z
LAST-MODIFIED:20190715T181220Z
UID:20239-1780223400-1780225200@stpaulsfallschurch.org
SUMMARY:Fellowship
DESCRIPTION:Join us for a cup of coffee/tea\, a snack and fellowship 9:00 a.m and 10:30 a.m.
URL:https://stpaulsfallschurch.org/event/fellowship/2026-05-31/
END:VEVENT
BEGIN:VEVENT
DTSTART;TZID=America/New_York:20260607T090000
DTEND;TZID=America/New_York:20260607T093000
DTSTAMP:20260420T094434
CREATED:20190715T181220Z
LAST-MODIFIED:20190715T181220Z
UID:20258-1780822800-1780824600@stpaulsfallschurch.org
SUMMARY:Fellowship
DESCRIPTION:Join us for a cup of coffee/tea\, a snack and fellowship 9:00 a.m and 10:30 a.m.
URL:https://stpaulsfallschurch.org/event/fellowship/2026-06-07/
END:VEVENT
BEGIN:VEVENT
DTSTART;TZID=America/New_York:20260607T103000
DTEND;TZID=America/New_York:20260607T110000
DTSTAMP:20260420T094434
CREATED:20190715T181220Z
LAST-MODIFIED:20190715T181220Z
UID:20259-1780828200-1780830000@stpaulsfallschurch.org
SUMMARY:Fellowship
DESCRIPTION:Join us for a cup of coffee/tea\, a snack and fellowship 9:00 a.m and 10:30 a.m.
URL:https://stpaulsfallschurch.org/event/fellowship/2026-06-07/
END:VEVENT
BEGIN:VEVENT
DTSTART;TZID=America/New_York:20260614T090000
DTEND;TZID=America/New_York:20260614T093000
DTSTAMP:20260420T094434
CREATED:20190715T181220Z
LAST-MODIFIED:20190715T181220Z
UID:20279-1781427600-1781429400@stpaulsfallschurch.org
SUMMARY:Fellowship
DESCRIPTION:Join us for a cup of coffee/tea\, a snack and fellowship 9:00 a.m and 10:30 a.m.
URL:https://stpaulsfallschurch.org/event/fellowship/2026-06-14/
END:VEVENT
BEGIN:VEVENT
DTSTART;TZID=America/New_York:20260614T103000
DTEND;TZID=America/New_York:20260614T110000
DTSTAMP:20260420T094434
CREATED:20190715T181220Z
LAST-MODIFIED:20190715T181220Z
UID:20280-1781433000-1781434800@stpaulsfallschurch.org
SUMMARY:Fellowship
DESCRIPTION:Join us for a cup of coffee/tea\, a snack and fellowship 9:00 a.m and 10:30 a.m.
URL:https://stpaulsfallschurch.org/event/fellowship/2026-06-14/
END:VEVENT
BEGIN:VEVENT
DTSTART;TZID=America/New_York:20260621T090000
DTEND;TZID=America/New_York:20260621T093000
DTSTAMP:20260420T094434
CREATED:20190715T181220Z
LAST-MODIFIED:20190715T181220Z
UID:20293-1782032400-1782034200@stpaulsfallschurch.org
SUMMARY:Fellowship
DESCRIPTION:Join us for a cup of coffee/tea\, a snack and fellowship 9:00 a.m and 10:30 a.m.
URL:https://stpaulsfallschurch.org/event/fellowship/2026-06-21/
END:VEVENT
BEGIN:VEVENT
DTSTART;TZID=America/New_York:20260621T103000
DTEND;TZID=America/New_York:20260621T110000
DTSTAMP:20260420T094434
CREATED:20190715T181220Z
LAST-MODIFIED:20190715T181220Z
UID:20294-1782037800-1782039600@stpaulsfallschurch.org
SUMMARY:Fellowship
DESCRIPTION:Join us for a cup of coffee/tea\, a snack and fellowship 9:00 a.m and 10:30 a.m.
URL:https://stpaulsfallschurch.org/event/fellowship/2026-06-21/
END:VEVENT
BEGIN:VEVENT
DTSTART;TZID=America/New_York:20260628T090000
DTEND;TZID=America/New_York:20260628T093000
DTSTAMP:20260420T094434
CREATED:20190715T181220Z
LAST-MODIFIED:20190715T181220Z
UID:20311-1782637200-1782639000@stpaulsfallschurch.org
SUMMARY:Fellowship
DESCRIPTION:Join us for a cup of coffee/tea\, a snack and fellowship 9:00 a.m and 10:30 a.m.
URL:https://stpaulsfallschurch.org/event/fellowship/2026-06-28/
END:VEVENT
BEGIN:VEVENT
DTSTART;TZID=America/New_York:20260628T103000
DTEND;TZID=America/New_York:20260628T110000
DTSTAMP:20260420T094434
CREATED:20190715T181220Z
LAST-MODIFIED:20190715T181220Z
UID:20312-1782642600-1782644400@stpaulsfallschurch.org
SUMMARY:Fellowship
DESCRIPTION:Join us for a cup of coffee/tea\, a snack and fellowship 9:00 a.m and 10:30 a.m.
URL:https://stpaulsfallschurch.org/event/fellowship/2026-06-28/
END:VEVENT
BEGIN:VEVENT
DTSTART;TZID=America/New_York:20260705T090000
DTEND;TZID=America/New_York:20260705T093000
DTSTAMP:20260420T094434
CREATED:20190715T181220Z
LAST-MODIFIED:20190715T181220Z
UID:20332-1783242000-1783243800@stpaulsfallschurch.org
SUMMARY:Fellowship
DESCRIPTION:Join us for a cup of coffee/tea\, a snack and fellowship 9:00 a.m and 10:30 a.m.
URL:https://stpaulsfallschurch.org/event/fellowship/2026-07-05/
END:VEVENT
BEGIN:VEVENT
DTSTART;TZID=America/New_York:20260705T103000
DTEND;TZID=America/New_York:20260705T110000
DTSTAMP:20260420T094434
CREATED:20190715T181220Z
LAST-MODIFIED:20190715T181220Z
UID:20333-1783247400-1783249200@stpaulsfallschurch.org
SUMMARY:Fellowship
DESCRIPTION:Join us for a cup of coffee/tea\, a snack and fellowship 9:00 a.m and 10:30 a.m.
URL:https://stpaulsfallschurch.org/event/fellowship/2026-07-05/
END:VEVENT
BEGIN:VEVENT
DTSTART;TZID=America/New_York:20260712T090000
DTEND;TZID=America/New_York:20260712T093000
DTSTAMP:20260420T094434
CREATED:20190715T181220Z
LAST-MODIFIED:20190715T181220Z
UID:20364-1783846800-1783848600@stpaulsfallschurch.org
SUMMARY:Fellowship
DESCRIPTION:Join us for a cup of coffee/tea\, a snack and fellowship 9:00 a.m and 10:30 a.m.
URL:https://stpaulsfallschurch.org/event/fellowship/2026-07-12/
END:VEVENT
BEGIN:VEVENT
DTSTART;TZID=America/New_York:20260712T103000
DTEND;TZID=America/New_York:20260712T110000
DTSTAMP:20260420T094434
CREATED:20190715T181220Z
LAST-MODIFIED:20190715T181220Z
UID:20365-1783852200-1783854000@stpaulsfallschurch.org
SUMMARY:Fellowship
DESCRIPTION:Join us for a cup of coffee/tea\, a snack and fellowship 9:00 a.m and 10:30 a.m.
URL:https://stpaulsfallschurch.org/event/fellowship/2026-07-12/
END:VEVENT
BEGIN:VEVENT
DTSTART;TZID=America/New_York:20260719T090000
DTEND;TZID=America/New_York:20260719T093000
DTSTAMP:20260420T094434
CREATED:20190715T181220Z
LAST-MODIFIED:20190715T181220Z
UID:20385-1784451600-1784453400@stpaulsfallschurch.org
SUMMARY:Fellowship
DESCRIPTION:Join us for a cup of coffee/tea\, a snack and fellowship 9:00 a.m and 10:30 a.m.
URL:https://stpaulsfallschurch.org/event/fellowship/2026-07-19/
END:VEVENT
BEGIN:VEVENT
DTSTART;TZID=America/New_York:20260719T103000
DTEND;TZID=America/New_York:20260719T110000
DTSTAMP:20260420T094434
CREATED:20190715T181220Z
LAST-MODIFIED:20190715T181220Z
UID:20386-1784457000-1784458800@stpaulsfallschurch.org
SUMMARY:Fellowship
DESCRIPTION:Join us for a cup of coffee/tea\, a snack and fellowship 9:00 a.m and 10:30 a.m.
URL:https://stpaulsfallschurch.org/event/fellowship/2026-07-19/
END:VEVENT
BEGIN:VEVENT
DTSTART;TZID=America/New_York:20260726T090000
DTEND;TZID=America/New_York:20260726T093000
DTSTAMP:20260420T094434
CREATED:20190715T181220Z
LAST-MODIFIED:20190715T181220Z
UID:20404-1785056400-1785058200@stpaulsfallschurch.org
SUMMARY:Fellowship
DESCRIPTION:Join us for a cup of coffee/tea\, a snack and fellowship 9:00 a.m and 10:30 a.m.
URL:https://stpaulsfallschurch.org/event/fellowship/2026-07-26/
END:VEVENT
BEGIN:VEVENT
DTSTART;TZID=America/New_York:20260726T103000
DTEND;TZID=America/New_York:20260726T110000
DTSTAMP:20260420T094434
CREATED:20190715T181220Z
LAST-MODIFIED:20190715T181220Z
UID:20405-1785061800-1785063600@stpaulsfallschurch.org
SUMMARY:Fellowship
DESCRIPTION:Join us for a cup of coffee/tea\, a snack and fellowship 9:00 a.m and 10:30 a.m.
URL:https://stpaulsfallschurch.org/event/fellowship/2026-07-26/
END:VEVENT
BEGIN:VEVENT
DTSTART;TZID=America/New_York:20260802T090000
DTEND;TZID=America/New_York:20260802T093000
DTSTAMP:20260420T094434
CREATED:20190715T181220Z
LAST-MODIFIED:20190715T181220Z
UID:20424-1785661200-1785663000@stpaulsfallschurch.org
SUMMARY:Fellowship
DESCRIPTION:Join us for a cup of coffee/tea\, a snack and fellowship 9:00 a.m and 10:30 a.m.
URL:https://stpaulsfallschurch.org/event/fellowship/2026-08-02/
END:VEVENT
BEGIN:VEVENT
DTSTART;TZID=America/New_York:20260802T103000
DTEND;TZID=America/New_York:20260802T110000
DTSTAMP:20260420T094434
CREATED:20190715T181220Z
LAST-MODIFIED:20190715T181220Z
UID:20425-1785666600-1785668400@stpaulsfallschurch.org
SUMMARY:Fellowship
DESCRIPTION:Join us for a cup of coffee/tea\, a snack and fellowship 9:00 a.m and 10:30 a.m.
URL:https://stpaulsfallschurch.org/event/fellowship/2026-08-02/
END:VEVENT
END:VCALENDAR