BEGIN:VCALENDAR
VERSION:2.0
PRODID:-//St. Paul&#039;s Lutheran Church | Falls Church Virginia - ECPv6.3.5//NONSGML v1.0//EN
CALSCALE:GREGORIAN
METHOD:PUBLISH
X-WR-CALNAME:St. Paul&#039;s Lutheran Church | Falls Church Virginia
X-ORIGINAL-URL:https://stpaulsfallschurch.org
X-WR-CALDESC:Events for St. Paul&#039;s Lutheran Church | Falls Church Virginia
REFRESH-INTERVAL;VALUE=DURATION:PT1H
X-Robots-Tag:noindex
X-PUBLISHED-TTL:PT1H
BEGIN:VTIMEZONE
TZID:America/New_York
BEGIN:DAYLIGHT
TZOFFSETFROM:-0500
TZOFFSETTO:-0400
TZNAME:EDT
DTSTART:20260308T070000
END:DAYLIGHT
BEGIN:STANDARD
TZOFFSETFROM:-0400
TZOFFSETTO:-0500
TZNAME:EST
DTSTART:20261101T060000
END:STANDARD
END:VTIMEZONE
BEGIN:VEVENT
DTSTART;TZID=America/New_York:20260426T090000
DTEND;TZID=America/New_York:20260426T093000
DTSTAMP:20260420T094930
CREATED:20190715T181220Z
LAST-MODIFIED:20190715T181220Z
UID:20138-1777194000-1777195800@stpaulsfallschurch.org
SUMMARY:Fellowship
DESCRIPTION:Join us for a cup of coffee/tea\, a snack and fellowship 9:00 a.m and 10:30 a.m.
URL:https://stpaulsfallschurch.org/event/fellowship/2026-04-26/
END:VEVENT
BEGIN:VEVENT
DTSTART;TZID=America/New_York:20260426T103000
DTEND;TZID=America/New_York:20260426T110000
DTSTAMP:20260420T094930
CREATED:20190715T181220Z
LAST-MODIFIED:20190715T181220Z
UID:20139-1777199400-1777201200@stpaulsfallschurch.org
SUMMARY:Fellowship
DESCRIPTION:Join us for a cup of coffee/tea\, a snack and fellowship 9:00 a.m and 10:30 a.m.
URL:https://stpaulsfallschurch.org/event/fellowship/2026-04-26/
END:VEVENT
END:VCALENDAR