BEGIN:VCALENDAR
VERSION:2.0
PRODID:-//St. Paul&#039;s Lutheran Church | Falls Church Virginia - ECPv6.3.5//NONSGML v1.0//EN
CALSCALE:GREGORIAN
METHOD:PUBLISH
X-WR-CALNAME:St. Paul&#039;s Lutheran Church | Falls Church Virginia
X-ORIGINAL-URL:https://stpaulsfallschurch.org
X-WR-CALDESC:Events for St. Paul&#039;s Lutheran Church | Falls Church Virginia
REFRESH-INTERVAL;VALUE=DURATION:PT1H
X-Robots-Tag:noindex
X-PUBLISHED-TTL:PT1H
BEGIN:VTIMEZONE
TZID:America/New_York
BEGIN:DAYLIGHT
TZOFFSETFROM:-0500
TZOFFSETTO:-0400
TZNAME:EDT
DTSTART:20270314T070000
END:DAYLIGHT
BEGIN:STANDARD
TZOFFSETFROM:-0400
TZOFFSETTO:-0500
TZNAME:EST
DTSTART:20271107T060000
END:STANDARD
BEGIN:DAYLIGHT
TZOFFSETFROM:-0500
TZOFFSETTO:-0400
TZNAME:EDT
DTSTART:20280312T070000
END:DAYLIGHT
BEGIN:STANDARD
TZOFFSETFROM:-0400
TZOFFSETTO:-0500
TZNAME:EST
DTSTART:20281105T060000
END:STANDARD
END:VTIMEZONE
BEGIN:VEVENT
DTSTART;TZID=America/New_York:20271210T193000
DTEND;TZID=America/New_York:20271210T220000
DTSTAMP:20260421T083631
CREATED:20190715T173545Z
LAST-MODIFIED:20190715T173545Z
UID:21950-1828467000-1828476000@stpaulsfallschurch.org
SUMMARY:Chinese Bible Study
DESCRIPTION:
URL:https://stpaulsfallschurch.org/event/chinese-bible-study/2027-12-10/
END:VEVENT
BEGIN:VEVENT
DTSTART;TZID=America/New_York:20271212T090000
DTEND;TZID=America/New_York:20271212T093000
DTSTAMP:20260421T083631
CREATED:20190715T181220Z
LAST-MODIFIED:20190715T181220Z
UID:21970-1828602000-1828603800@stpaulsfallschurch.org
SUMMARY:Fellowship
DESCRIPTION:Join us for a cup of coffee/tea\, a snack and fellowship 9:00 a.m and 10:30 a.m.
URL:https://stpaulsfallschurch.org/event/fellowship/2027-12-12/
END:VEVENT
BEGIN:VEVENT
DTSTART;TZID=America/New_York:20271212T103000
DTEND;TZID=America/New_York:20271212T110000
DTSTAMP:20260421T083631
CREATED:20190715T181220Z
LAST-MODIFIED:20190715T181220Z
UID:21971-1828607400-1828609200@stpaulsfallschurch.org
SUMMARY:Fellowship
DESCRIPTION:Join us for a cup of coffee/tea\, a snack and fellowship 9:00 a.m and 10:30 a.m.
URL:https://stpaulsfallschurch.org/event/fellowship/2027-12-12/
END:VEVENT
BEGIN:VEVENT
DTSTART;TZID=America/New_York:20271212T180000
DTEND;TZID=America/New_York:20271212T200000
DTSTAMP:20260421T083631
CREATED:20190715T172952Z
LAST-MODIFIED:20190715T172952Z
UID:21969-1828634400-1828641600@stpaulsfallschurch.org
SUMMARY:Board of Youth
DESCRIPTION:
URL:https://stpaulsfallschurch.org/event/board-of-youth/2027-12-12/
END:VEVENT
BEGIN:VEVENT
DTSTART;TZID=America/New_York:20271213T190000
DTEND;TZID=America/New_York:20271213T210000
DTSTAMP:20260421T083631
CREATED:20190715T163349Z
LAST-MODIFIED:20190715T163349Z
UID:21976-1828724400-1828731600@stpaulsfallschurch.org
SUMMARY:Board of Evangelism
DESCRIPTION:
URL:https://stpaulsfallschurch.org/event/board-of-evangelism-2020-02-11/2027-12-13/
END:VEVENT
BEGIN:VEVENT
DTSTART;TZID=America/New_York:20271213T193000
DTEND;TZID=America/New_York:20271213T213000
DTSTAMP:20260421T083631
CREATED:20190715T161811Z
LAST-MODIFIED:20190715T161811Z
UID:21975-1828726200-1828733400@stpaulsfallschurch.org
SUMMARY:Board of Elders
DESCRIPTION:
URL:https://stpaulsfallschurch.org/event/board-of-elders/2027-12-13/
END:VEVENT
BEGIN:VEVENT
DTSTART;TZID=America/New_York:20271214T190000
DTEND;TZID=America/New_York:20271214T210000
DTSTAMP:20260421T083631
CREATED:20190715T163349Z
LAST-MODIFIED:20190715T163349Z
UID:21979-1828810800-1828818000@stpaulsfallschurch.org
SUMMARY:Board of Evangelism
DESCRIPTION:
URL:https://stpaulsfallschurch.org/event/board-of-evangelism/2027-12-14/
END:VEVENT
BEGIN:VEVENT
DTSTART;TZID=America/New_York:20271217T193000
DTEND;TZID=America/New_York:20271217T220000
DTSTAMP:20260421T083631
CREATED:20190715T173545Z
LAST-MODIFIED:20190715T173545Z
UID:21996-1829071800-1829080800@stpaulsfallschurch.org
SUMMARY:Chinese Bible Study
DESCRIPTION:
URL:https://stpaulsfallschurch.org/event/chinese-bible-study/2027-12-17/
END:VEVENT
BEGIN:VEVENT
DTSTART;TZID=America/New_York:20271219T090000
DTEND;TZID=America/New_York:20271219T093000
DTSTAMP:20260421T083631
CREATED:20190715T181220Z
LAST-MODIFIED:20190715T181220Z
UID:22007-1829206800-1829208600@stpaulsfallschurch.org
SUMMARY:Fellowship
DESCRIPTION:Join us for a cup of coffee/tea\, a snack and fellowship 9:00 a.m and 10:30 a.m.
URL:https://stpaulsfallschurch.org/event/fellowship/2027-12-19/
END:VEVENT
BEGIN:VEVENT
DTSTART;TZID=America/New_York:20271219T103000
DTEND;TZID=America/New_York:20271219T110000
DTSTAMP:20260421T083631
CREATED:20190715T181220Z
LAST-MODIFIED:20190715T181220Z
UID:22008-1829212200-1829214000@stpaulsfallschurch.org
SUMMARY:Fellowship
DESCRIPTION:Join us for a cup of coffee/tea\, a snack and fellowship 9:00 a.m and 10:30 a.m.
URL:https://stpaulsfallschurch.org/event/fellowship/2027-12-19/
END:VEVENT
BEGIN:VEVENT
DTSTART;TZID=America/New_York:20271219T121500
DTEND;TZID=America/New_York:20271219T133000
DTSTAMP:20260421T083631
CREATED:20190716T144826Z
LAST-MODIFIED:20190716T144826Z
UID:22006-1829218500-1829223000@stpaulsfallschurch.org
SUMMARY:Board of Fellowship
DESCRIPTION:
URL:https://stpaulsfallschurch.org/event/board-of-fellowship/2027-12-19/
END:VEVENT
BEGIN:VEVENT
DTSTART;TZID=America/New_York:20271220T193000
DTEND;TZID=America/New_York:20271220T213000
DTSTAMP:20260421T083631
CREATED:20190715T175224Z
LAST-MODIFIED:20190715T175224Z
UID:22009-1829331000-1829338200@stpaulsfallschurch.org
SUMMARY:Council Meeting
DESCRIPTION:
URL:https://stpaulsfallschurch.org/event/council-meeting/2027-12-20/
END:VEVENT
BEGIN:VEVENT
DTSTART;TZID=America/New_York:20271224T193000
DTEND;TZID=America/New_York:20271224T220000
DTSTAMP:20260421T083631
CREATED:20190715T173545Z
LAST-MODIFIED:20190715T173545Z
UID:22025-1829676600-1829685600@stpaulsfallschurch.org
SUMMARY:Chinese Bible Study
DESCRIPTION:
URL:https://stpaulsfallschurch.org/event/chinese-bible-study/2027-12-24/
END:VEVENT
BEGIN:VEVENT
DTSTART;TZID=America/New_York:20271226T090000
DTEND;TZID=America/New_York:20271226T093000
DTSTAMP:20260421T083631
CREATED:20190715T181220Z
LAST-MODIFIED:20190715T181220Z
UID:22037-1829811600-1829813400@stpaulsfallschurch.org
SUMMARY:Fellowship
DESCRIPTION:Join us for a cup of coffee/tea\, a snack and fellowship 9:00 a.m and 10:30 a.m.
URL:https://stpaulsfallschurch.org/event/fellowship/2027-12-26/
END:VEVENT
BEGIN:VEVENT
DTSTART;TZID=America/New_York:20271226T103000
DTEND;TZID=America/New_York:20271226T110000
DTSTAMP:20260421T083631
CREATED:20190715T181220Z
LAST-MODIFIED:20190715T181220Z
UID:22038-1829817000-1829818800@stpaulsfallschurch.org
SUMMARY:Fellowship
DESCRIPTION:Join us for a cup of coffee/tea\, a snack and fellowship 9:00 a.m and 10:30 a.m.
URL:https://stpaulsfallschurch.org/event/fellowship/2027-12-26/
END:VEVENT
BEGIN:VEVENT
DTSTART;TZID=America/New_York:20271231T193000
DTEND;TZID=America/New_York:20271231T220000
DTSTAMP:20260421T083631
CREATED:20190715T173545Z
LAST-MODIFIED:20190715T173545Z
UID:22045-1830281400-1830290400@stpaulsfallschurch.org
SUMMARY:Chinese Bible Study
DESCRIPTION:
URL:https://stpaulsfallschurch.org/event/chinese-bible-study/2027-12-31/
END:VEVENT
BEGIN:VEVENT
DTSTART;TZID=America/New_York:20280101T090000
DTEND;TZID=America/New_York:20280101T120000
DTSTAMP:20260421T083631
CREATED:20190715T174055Z
LAST-MODIFIED:20190715T174055Z
UID:22047-1830330000-1830340800@stpaulsfallschurch.org
SUMMARY:LWML Workday
DESCRIPTION:
URL:https://stpaulsfallschurch.org/event/lwml-workday/2028-01-01/
END:VEVENT
BEGIN:VEVENT
DTSTART;TZID=America/New_York:20280102T090000
DTEND;TZID=America/New_York:20280102T093000
DTSTAMP:20260421T083631
CREATED:20190715T181220Z
LAST-MODIFIED:20190715T181220Z
UID:22060-1830416400-1830418200@stpaulsfallschurch.org
SUMMARY:Fellowship
DESCRIPTION:Join us for a cup of coffee/tea\, a snack and fellowship 9:00 a.m and 10:30 a.m.
URL:https://stpaulsfallschurch.org/event/fellowship/2028-01-02/
END:VEVENT
BEGIN:VEVENT
DTSTART;TZID=America/New_York:20280102T103000
DTEND;TZID=America/New_York:20280102T110000
DTSTAMP:20260421T083631
CREATED:20190715T181220Z
LAST-MODIFIED:20190715T181220Z
UID:22061-1830421800-1830423600@stpaulsfallschurch.org
SUMMARY:Fellowship
DESCRIPTION:Join us for a cup of coffee/tea\, a snack and fellowship 9:00 a.m and 10:30 a.m.
URL:https://stpaulsfallschurch.org/event/fellowship/2028-01-02/
END:VEVENT
BEGIN:VEVENT
DTSTART;TZID=America/New_York:20280103T193000
DTEND;TZID=America/New_York:20280103T210000
DTSTAMP:20260421T083631
CREATED:20190712T124426Z
LAST-MODIFIED:20190712T124426Z
UID:22062-1830540600-1830546000@stpaulsfallschurch.org
SUMMARY:Board of Property Management
DESCRIPTION:
URL:https://stpaulsfallschurch.org/event/board-of-property-management/2028-01-03/
END:VEVENT
BEGIN:VEVENT
DTSTART;TZID=America/New_York:20280107T193000
DTEND;TZID=America/New_York:20280107T220000
DTSTAMP:20260421T083631
CREATED:20190715T173545Z
LAST-MODIFIED:20190715T173545Z
UID:22066-1830886200-1830895200@stpaulsfallschurch.org
SUMMARY:Chinese Bible Study
DESCRIPTION:
URL:https://stpaulsfallschurch.org/event/chinese-bible-study/2028-01-07/
END:VEVENT
BEGIN:VEVENT
DTSTART;TZID=America/New_York:20280109T090000
DTEND;TZID=America/New_York:20280109T093000
DTSTAMP:20260421T083631
CREATED:20190715T181220Z
LAST-MODIFIED:20190715T181220Z
UID:22079-1831021200-1831023000@stpaulsfallschurch.org
SUMMARY:Fellowship
DESCRIPTION:Join us for a cup of coffee/tea\, a snack and fellowship 9:00 a.m and 10:30 a.m.
URL:https://stpaulsfallschurch.org/event/fellowship/2028-01-09/
END:VEVENT
BEGIN:VEVENT
DTSTART;TZID=America/New_York:20280109T103000
DTEND;TZID=America/New_York:20280109T110000
DTSTAMP:20260421T083631
CREATED:20190715T181220Z
LAST-MODIFIED:20190715T181220Z
UID:22080-1831026600-1831028400@stpaulsfallschurch.org
SUMMARY:Fellowship
DESCRIPTION:Join us for a cup of coffee/tea\, a snack and fellowship 9:00 a.m and 10:30 a.m.
URL:https://stpaulsfallschurch.org/event/fellowship/2028-01-09/
END:VEVENT
BEGIN:VEVENT
DTSTART;TZID=America/New_York:20280109T180000
DTEND;TZID=America/New_York:20280109T200000
DTSTAMP:20260421T083631
CREATED:20190715T172952Z
LAST-MODIFIED:20190715T172952Z
UID:22078-1831053600-1831060800@stpaulsfallschurch.org
SUMMARY:Board of Youth
DESCRIPTION:
URL:https://stpaulsfallschurch.org/event/board-of-youth/2028-01-09/
END:VEVENT
BEGIN:VEVENT
DTSTART;TZID=America/New_York:20280110T190000
DTEND;TZID=America/New_York:20280110T210000
DTSTAMP:20260421T083631
CREATED:20190715T163349Z
LAST-MODIFIED:20190715T163349Z
UID:22082-1831143600-1831150800@stpaulsfallschurch.org
SUMMARY:Board of Evangelism
DESCRIPTION:
URL:https://stpaulsfallschurch.org/event/board-of-evangelism-2020-02-11/2028-01-10/
END:VEVENT
BEGIN:VEVENT
DTSTART;TZID=America/New_York:20280110T193000
DTEND;TZID=America/New_York:20280110T213000
DTSTAMP:20260421T083631
CREATED:20190715T161811Z
LAST-MODIFIED:20190715T161811Z
UID:22081-1831145400-1831152600@stpaulsfallschurch.org
SUMMARY:Board of Elders
DESCRIPTION:
URL:https://stpaulsfallschurch.org/event/board-of-elders/2028-01-10/
END:VEVENT
BEGIN:VEVENT
DTSTART;TZID=America/New_York:20280111T190000
DTEND;TZID=America/New_York:20280111T210000
DTSTAMP:20260421T083631
CREATED:20190715T163349Z
LAST-MODIFIED:20190715T163349Z
UID:22085-1831230000-1831237200@stpaulsfallschurch.org
SUMMARY:Board of Evangelism
DESCRIPTION:
URL:https://stpaulsfallschurch.org/event/board-of-evangelism/2028-01-11/
END:VEVENT
BEGIN:VEVENT
DTSTART;TZID=America/New_York:20280113T113000
DTEND;TZID=America/New_York:20280113T150000
DTSTAMP:20260421T083631
CREATED:20190715T173135Z
LAST-MODIFIED:20190715T173135Z
UID:22086-1831375800-1831388400@stpaulsfallschurch.org
SUMMARY:Leisure Group
DESCRIPTION:There is no official Leisure Group membership and everyone is invited to attend.
URL:https://stpaulsfallschurch.org/event/leisure-group/2028-01-13/
END:VEVENT
BEGIN:VEVENT
DTSTART;TZID=America/New_York:20280114T193000
DTEND;TZID=America/New_York:20280114T220000
DTSTAMP:20260421T083631
CREATED:20190715T173545Z
LAST-MODIFIED:20190715T173545Z
UID:22087-1831491000-1831500000@stpaulsfallschurch.org
SUMMARY:Chinese Bible Study
DESCRIPTION:
URL:https://stpaulsfallschurch.org/event/chinese-bible-study/2028-01-14/
END:VEVENT
BEGIN:VEVENT
DTSTART;TZID=America/New_York:20280116T090000
DTEND;TZID=America/New_York:20280116T093000
DTSTAMP:20260421T083631
CREATED:20190715T181220Z
LAST-MODIFIED:20190715T181220Z
UID:22100-1831626000-1831627800@stpaulsfallschurch.org
SUMMARY:Fellowship
DESCRIPTION:Join us for a cup of coffee/tea\, a snack and fellowship 9:00 a.m and 10:30 a.m.
URL:https://stpaulsfallschurch.org/event/fellowship/2028-01-16/
END:VEVENT
END:VCALENDAR